BEGIN:VCALENDAR
VERSION:2.0
PRODID:-//Microsoft Corporation//Outlook for Mac MIMEDIR//EN
METHOD:PUBLISH
BEGIN:VTIMEZONE
TZID:Central Time (US & Canada)
X-ENTOURAGE-CFTIMEZONE:US/Central
X-ENTOURAGE-TZID:3
BEGIN:STANDARD
RRULE:FREQ=YEARLY;INTERVAL=1;BYSECOND=0;BYMINUTE=0;BYHOUR=2;BYDAY=1SU;BYMO
 NTH=11
TZOFFSETFROM:-0500
TZOFFSETTO:-0600
DTSTART:20071104T020000
END:STANDARD
BEGIN:DAYLIGHT
RRULE:FREQ=YEARLY;INTERVAL=1;BYSECOND=0;BYMINUTE=0;BYHOUR=2;BYDAY=2SU;BYMO
 NTH=3
TZOFFSETFROM:-0600
TZOFFSETTO:-0500
DTSTART:20070311T020000
END:DAYLIGHT
END:VTIMEZONE
BEGIN:VEVENT
UID:040000008200E00074C5B7101A82E008000000001D175C386C33D60100000000000000
 0010000000D59ECB4D35257A4EBB18251E8C5A3454
X-ENTOURAGE_UUID:CFD9D471-F19C-4836-8626-82CB518FB37F
X-MICROSOFT-EXCHANGE-ID:AAMkADA5ZWE3NTViLTM4NTktNGEzZS04YTUxLWVhODQ5NTM2NT
 BjMwBGAAAAAADzJ3VvzvIzRaUVc6ZTk5xXBwCpCI4ByuKRTIq2ljBj1Uk0AAAAAAENAACpCI4B
 yuKRTIq2ljBj1Uk0AAMKZ6DBAAA=
X-MICROSOFT-EXCHANGE-CHANGEKEY:qQiOAcrikUyKtpYwY9VJNAADCg6PzQ==
DTSTAMP:20200526T150942Z
DTSTART;TZID="Central Time (US & Canada)":20200528T120000
DTEND;TZID="Central Time (US & Canada)":20200528T130000
LAST-MODIFIED:20200526T150946Z
SUMMARY:MiraTEC Presents: Building Products Impact on Health and the
  Environment
DESCRIPTION:Topic: MiraTEC Presents: Building Products Impact on Health
  and the Environment\n\nTime: May 28\, 2020 12:00 PM Eastern Time (US and
  Canada)\n\n\n\nJoin Zoom
  Meeting\n\nhttps://jeldwen.zoom.us/j/96165392585 \n\n\n\nMeeting ID: 961
  6539 2585\n\nOne tap mobile\n\n+13126266799\,\,96165392585# US
  (Chicago)\n\n+16468769923\,\,96165392585# US (New York)\n\n\n\nDial by
  your location\n\n        +1 312 626 6799 US (Chicago)\n\n        +1 646
  876 9923 US (New York)\n\n        +1 301 715 8592 US (Germantown)\n\n
         +1 346 248 7799 US (Houston)\n\n        +1 669 900 6833 US (San
  Jose)\n\n        +1 253 215 8782 US (Tacoma)\n\n        877 853 5257 US
  Toll-free\n\n        855 880 1246 US Toll-free\n\nMeeting ID: 961 6539
  2585\n\nFind your local number:
  https://jeldwen.zoom.us/u/a8c7qAwHj\n\n\n\nJoin by Skype for
  Business\n\nhttps://jeldwen.zoom.us/skype/96165392585\n
LOCATION:https://jeldwen.zoom.us/j/96165392585
ORGANIZER:MAILTO:LaBrown@jeldwen.com
SEQUENCE:0
ATTENDEE;ROLE=REQ-PARTICIPANT;RSVP=FALSE;CN="Tim
  Thornton";PARTSTAT=NEEDS-ACTION:MAILTO:TThornton@jeldwen.com
X-MICROSOFT-CDO-BUSYSTATUS:BUSY
X-MICROSOFT-CDO-ALLDAYEVENT:FALSE
X-MICROSOFT-DISALLOW-COUNTER:FALSE
X-MICROSOFT-DONOTFORWARDMEETING:FALSE
X-MICROSOFT-CDO-INSTTYPE:0
BEGIN:VALARM
ACTION:DISPLAY
DESCRIPTION:REMINDER
TRIGGER;RELATED=START:-PT00H10M00S
END:VALARM
END:VEVENT
END:VCALENDAR
