BEGIN:VCALENDAR
VERSION:2.0
PRODID:-//Microsoft Corporation//Outlook for Mac MIMEDIR//EN
METHOD:PUBLISH
BEGIN:VTIMEZONE
TZID:Eastern Time (US & Canada)
X-ENTOURAGE-CFTIMEZONE:US/Eastern
X-ENTOURAGE-TZID:4
BEGIN:STANDARD
RRULE:FREQ=YEARLY;INTERVAL=1;BYSECOND=0;BYMINUTE=0;BYHOUR=2;BYDAY=1SU;BYMO
 NTH=11
TZOFFSETFROM:-0400
TZOFFSETTO:-0500
DTSTART:20071104T020000
END:STANDARD
BEGIN:DAYLIGHT
RRULE:FREQ=YEARLY;INTERVAL=1;BYSECOND=0;BYMINUTE=0;BYHOUR=2;BYDAY=2SU;BYMO
 NTH=3
TZOFFSETFROM:-0500
TZOFFSETTO:-0400
DTSTART:20070311T020000
END:DAYLIGHT
END:VTIMEZONE
BEGIN:VEVENT
UID:040000008200E00074C5B7101A82E0080000000070F53B73301ED60100000000000000
 0010000000E635B6371DC75D44AA13C8A9C1F970ED
X-ENTOURAGE_UUID:798C9ECB-8AD7-4694-B78C-00384640C7AF
X-MICROSOFT-EXCHANGE-ID:AAMkADA5ZWE3NTViLTM4NTktNGEzZS04YTUxLWVhODQ5NTM2NT
 BjMwBGAAAAAADzJ3VvzvIzRaUVc6ZTk5xXBwCpCI4ByuKRTIq2ljBj1Uk0AAAAAAENAACpCI4B
 yuKRTIq2ljBj1Uk0AAL7_vrfAAA=
X-MICROSOFT-EXCHANGE-CHANGEKEY:qQiOAcrikUyKtpYwY9VJNAAC+6p1+g==
DTSTAMP:20200429T141410Z
DTSTART;TZID="Eastern Time (US & Canada)":20200501T110000
DTEND;TZID="Eastern Time (US & Canada)":20200501T120000
LAST-MODIFIED:20200429T141410Z
SUMMARY:MiraTEC Presents: Building Products Impact on Health and the
  Environment 
DESCRIPTION:Topic: MiraTEC Presents: Building Products Impact on Health
  and the Environment\n\nTime: May 1\, 2020 11:00 AM Eastern Time (US and
  Canada)\n\n\n\nJoin Zoom
  Meeting\n\nhttps://jeldwen.zoom.us/j/93318330830\n\n\n\nMeeting ID: 933
  1833 0830\n\nOne tap mobile\n\n+13126266799\,\,93318330830# US
  (Chicago)\n\n+16468769923\,\,93318330830# US (New York)\n\n\n\nDial by
  your location\n\n        +1 312 626 6799 US (Chicago)\n\n        +1 646
  876 9923 US (New York)\n\n        +1 301 715 8592 US (Germantown)\n\n
         +1 346 248 7799 US (Houston)\n\n        +1 669 900 6833 US (San
  Jose)\n\n        +1 253 215 8782 US (Tacoma)\n\n        855 880 1246 US
  Toll-free\n\n        877 853 5257 US Toll-free\n\nMeeting ID: 933 1833
  0830\n\nFind your local number:
  https://jeldwen.zoom.us/u/adfnbkATfY\n\n\n\nJoin by Skype for
  Business\n\nhttps://jeldwen.zoom.us/skype/93318330830\n
LOCATION:Zoom Meeting
ORGANIZER:MAILTO:LaBrown@jeldwen.com
SEQUENCE:0
X-MICROSOFT-CDO-BUSYSTATUS:BUSY
X-MICROSOFT-CDO-ALLDAYEVENT:FALSE
X-MICROSOFT-DISALLOW-COUNTER:FALSE
X-MICROSOFT-DONOTFORWARDMEETING:FALSE
X-MICROSOFT-CDO-INSTTYPE:0
BEGIN:VALARM
ACTION:DISPLAY
DESCRIPTION:REMINDER
TRIGGER;RELATED=START:-PT00H15M00S
END:VALARM
END:VEVENT
END:VCALENDAR
